BEGIN:VCALENDAR
VERSION:2.0
PRODID:-//ERT//LNF26//DE
VERSION:2.0
BEGIN:VEVENT
UID:station_5893_20260324T160000Z
DTSTAMP:20260424T085900Z
URL:https://ert.langenachtderforschung.at/station/5893
DTSTART:20260324T160000Z
DTEND:20260424T200000Z
SUMMARY:[LNF26] Haut im Blick – Prävention neu erleben
DESCRIPTION:Dekubitus (Druckgeschwür) entsteht durch Druck und Zeit – nicht allein durch fehlende Umlagerung. Moderne Monitoring-Systeme messen Bewegungen und unterstützen eine individuelle Positionierung. Durch Eigendemonstration wird das Entstehungsprinzip des „Wundliegens“ anschaulich erklärt. In der Pflegeforschung wird erforscht, wie solche Systeme Prävention und Pflegepraxis verbessern.
LOCATION:Viktor Kaplan Strasse 2 TFZ, 2700 Wiener Neustadt
GEO:47.83725022;16.25247860
END:VEVENT
END:VCALENDAR