BEGIN:VCALENDAR
VERSION:2.0
PRODID:-//ERT//LNF26//DE
VERSION:2.0
BEGIN:VEVENT
UID:station_5904_20260324T160000Z
DTSTAMP:20260420T084500Z
URL:https://ert.langenachtderforschung.at/station/5904
DTSTART:20260324T160000Z
DTEND:20260424T203000Z
SUMMARY:[LNF26] Wie heizt eigentlich eine Wärmepumpe? Thermodynamik zum Anfassen mit der heatXpump
DESCRIPTION:Mit der heatXpump von Protovation wird Thermodynamik erlebbar: Eine echte Trainings-Wärmepumpe zeigt Schritt für Schritt, wie aus kalter Umgebungsluft warme Raumluft wird. Temperaturen, Drücke und Durchflüsse sind live sichtbar und spürbar– zum Beobachten, Verstehen und selbst ausprobieren. Zukunftstechnologie nicht nur erklärt, sondern hautnah erlebt!
LOCATION:Viktor Kaplan Strasse 2 TFZ, 2700 Wiener Neustadt
GEO:47.83725022;16.25247860
END:VEVENT
END:VCALENDAR