BEGIN:VCALENDAR
VERSION:2.0
PRODID:-//ERT//LNF26//DE
VERSION:2.0
BEGIN:VEVENT
UID:station_5905_20260324T160000Z
DTSTAMP:20260420T085900Z
URL:https://ert.langenachtderforschung.at/station/5905
DTSTART:20260324T160000Z
DTEND:20260424T203000Z
SUMMARY:[LNF26] PulpStack - Wie gelingt nachhaltiger 3D‑Druck?
DESCRIPTION:PulpStack ist ein innovatives Startup, das an einer neuartigen 3D-Drucktechnologie für Zellulose arbeitet, dem Hauptbestandteil von Papier und dem am häufigsten vorkommenden Biopolymer auf der Erde. Das Ziel ist es, das volle Potenzial des Materials als erneuerbarer, biologisch abbaubarer und leistungsstarker Werkstoff für viele Anwendungsbereiche auszuschöpfen. Von einfachen Rohstoffen zu leistungsstarken Produkten.
LOCATION:Viktor Kaplan Strasse 2 TFZ, 2700 Wiener Neustadt
GEO:47.83725022;16.25247860
END:VEVENT
END:VCALENDAR