BEGIN:VCALENDAR
VERSION:2.0
PRODID:-//ERT//LNF26//DE
VERSION:2.0
BEGIN:VEVENT
UID:station_5939_20260324T160000Z
DTSTAMP:20260420T003200Z
URL:https://ert.langenachtderforschung.at/station/5939
DTSTART:20260324T160000Z
DTEND:20260424T210000Z
SUMMARY:[LNF26] Wie können uns Gesundheitsdaten &#34;anstupsen&#34; und zum gesünderen Leben motivieren?
DESCRIPTION:Das Forschungsprojekt PräNUDGE zeigt, wie Nudging-Strategien und Gesundheitsdaten zu besserer Prävention, Gesundheitskompetenz und mehr gesunden Lebensjahren beitragen können.
LOCATION:Neue Stiftingtalstraße 2, 8010 Graz
GEO:47.08009664;15.46932399
END:VEVENT
END:VCALENDAR