BEGIN:VCALENDAR
VERSION:2.0
PRODID:-//ERT//LNF26//DE
VERSION:2.0
BEGIN:VEVENT
UID:station_595_20260324T160000Z
DTSTAMP:20260421T135000Z
URL:https://ert.langenachtderforschung.at/station/595
DTSTART:20260324T160000Z
DTEND:20260424T210000Z
SUMMARY:[LNF26] Kann man dem Gras wirklich beim Wachsen zuschauen?
DESCRIPTION:Wie kommt das Bakterium in die Pflanze?\nWer sind die heimlichen Herrscher der Welt?\nGibt es Alternativen zu chemischen Spritzmitteln zur Rettung der Olive?\nUnd was machen Pflanzen wenn es zu trocken ist?\nWir geben Einblick in die Arbeit von Mikrobiologen, zeigen euch wie man von der Idee zu einer Lösung kommt und unsere Student:innen stehen Rede und Antwort zur Frage wie es denn so ist als Wissenschafter:in.
LOCATION:Konrad Lorenz Straße 24, 3430 Tulln
GEO:48.32077312;16.06863138
END:VEVENT
END:VCALENDAR