BEGIN:VCALENDAR
VERSION:2.0
PRODID:-//ERT//LNF26//DE
VERSION:2.0
BEGIN:VEVENT
UID:station_596_20260324T160000Z
DTSTAMP:20260421T135000Z
URL:https://ert.langenachtderforschung.at/station/596
DTSTART:20260324T160000Z
DTEND:20260424T210000Z
SUMMARY:[LNF26] Wie helfen Pilze und Bakterien im Boden, unseren Pflanzen besser zu wachsen und gesunde Lebensmittel zu machen?
DESCRIPTION:Hast du dich schon einmal gefragt, warum manche Pflanzen besser wachsen als andere? Hier schauen wir uns winzige Helfer im Boden an. Diese Mikroorganismen leben rund um die Pflanzenwurzeln, aber auch in den Pflanzen drinnen. Wir zeigen echte Wurzeln, lebende Pflanzen und Mikroorganismen,
LOCATION:Konrad Lorenz Straße 24, 3430 Tulln
GEO:48.32077312;16.06863138
END:VEVENT
END:VCALENDAR