BEGIN:VCALENDAR
VERSION:2.0
PRODID:-//ERT//LNF26//DE
VERSION:2.0
BEGIN:VEVENT
UID:station_598_20260324T160000Z
DTSTAMP:20260421T151400Z
URL:https://ert.langenachtderforschung.at/station/598
DTSTART:20260324T160000Z
DTEND:20260424T210000Z
SUMMARY:[LNF26] Wirkstoffen auf der Spur: Werde zum Labor-Profi!
DESCRIPTION:Wie findet man neue Wirkstoffe in der Natur? In der Core Facility BMOSA suchen wir nach winzigen Molekülen mit großer Wirkung. Damit das gelingt, ist höchste Präzision gefragt. Schnappen Sie sich eine Mikroliterpipette und starten Sie Ihr eigenes „Mini-Screening“: Mit bunten Lösungen füllen Sie 24-Well-Platten und lernen, wie moderne Wirkstoffforschung in der Praxis funktioniert.
LOCATION:Konrad Lorenz Straße 24, 3430 Tulln
GEO:48.32077312;16.06863138
END:VEVENT
END:VCALENDAR