BEGIN:VCALENDAR
VERSION:2.0
PRODID:-//ERT//LNF26//DE
VERSION:2.0
BEGIN:VEVENT
UID:station_6008_20260324T160000Z
DTSTAMP:20260424T093200Z
URL:https://ert.langenachtderforschung.at/station/6008
DTSTART:20260324T160000Z
DTEND:20260424T203000Z
SUMMARY:[LNF26] Wie bläst sich ein Ballon von selbst auf?
DESCRIPTION:Kann ein Ballon wachsen, ohne dass man hineinpustet? Ja! An dieser Station entsteht durch das Mischen zweier Stoffe ein Gas. Dieses Gas füllt den Ballon und lässt ihn größer werden. Hier kannst du live beobachten, wie eine chemische Reaktion sichtbar wird.
LOCATION:Viktor Kaplan Strasse 2 TFZ, 2700 Wiener Neustadt
GEO:47.83725022;16.25247860
END:VEVENT
END:VCALENDAR