BEGIN:VCALENDAR
VERSION:2.0
PRODID:-//ERT//LNF26//DE
VERSION:2.0
BEGIN:VEVENT
UID:station_6009_20260324T160000Z
DTSTAMP:20260424T085900Z
URL:https://ert.langenachtderforschung.at/station/6009
DTSTART:20260324T160000Z
DTEND:20260424T203000Z
SUMMARY:[LNF26] Wie wird aus Pulver ein Stein?
DESCRIPTION:Hier wirst du selbst zum Baustoff-Profi! Du mischst ein besonderes Pulver mit Wasser, rührst es gut um und gießt die Masse in eine Form. Nach wenigen Minuten wird daraus ein fester Stein. Du kannst dein Werk auch bunt einfärben. Deinen selbstgemachten Tassenuntersetzer darfst du mit nach Hause nehmen!
LOCATION:Viktor Kaplan Strasse 2 TFZ, 2700 Wiener Neustadt
GEO:47.83725022;16.25247860
END:VEVENT
END:VCALENDAR