BEGIN:VCALENDAR
VERSION:2.0
PRODID:-//ERT//LNF26//DE
VERSION:2.0
BEGIN:VEVENT
UID:station_6019_20260324T160000Z
DTSTAMP:20260424T102500Z
URL:https://ert.langenachtderforschung.at/station/6019
DTSTART:20260324T160000Z
DTEND:20260424T203000Z
SUMMARY:[LNF26] Wie kann man aus Obst Strom erzeugen?
DESCRIPTION:Entdecken Sie, wie aus Chemie Strom wird! Bei dieser Mitmachstation können Besucherinnen und Besucher einen einfachen Papiersensor bauen, den Vitamin-C-Gehalt in Getränken testen und mit einer Obstbatterie elektrische Spannung erzeugen. Diese einfachen Experimente zeigen anschaulich, wie moderne Schnelltests chemische Reaktionen in elektrische Signale umwandeln – verständlich für Kinder, Jugendliche und Erwachsene.
LOCATION:Viktor Kaplan Strasse 2 TFZ, 2700 Wiener Neustadt
GEO:47.83725022;16.25247860
END:VEVENT
END:VCALENDAR