BEGIN:VCALENDAR
VERSION:2.0
PRODID:-//ERT//LNF26//DE
VERSION:2.0
BEGIN:VEVENT
UID:station_6020_20260324T160000Z
DTSTAMP:20260425T210900Z
URL:https://ert.langenachtderforschung.at/station/6020
DTSTART:20260324T160000Z
DTEND:20260424T210000Z
SUMMARY:[LNF26] Wie helfen Energiegemeinschaften gegen Energiearmut?
DESCRIPTION:Das Projekt HERCULES-CE gibt Einblicke in die Entwicklung europäischer Energiegemeinschaften. Ein Highlight ist ein Tool zu deren Unterstützung, das vor Ort getestet werden kann. An der Station werden Ergebnisse auf Postern und Roll-Ups gezeigt, mit Fokus auf die Ostregion, ihr Potenzial zur Reduktion von Energiearmut und zur Mitgestaltung der Energiewende.
LOCATION:Campus 1, 7000 Eisenstadt
GEO:47.82956920;16.53580785
END:VEVENT
END:VCALENDAR