BEGIN:VCALENDAR
VERSION:2.0
PRODID:-//ERT//LNF26//DE
VERSION:2.0
BEGIN:VEVENT
UID:station_6033_20260324T160000Z
DTSTAMP:20260419T210900Z
URL:https://ert.langenachtderforschung.at/station/6033
DTSTART:20260324T160000Z
DTEND:20260424T200000Z
SUMMARY:[LNF26] Wie werden die Geometrien von hydraulischen Strömungsmaschinen (Pumpen/Turbinen) entwickelt?
DESCRIPTION:Erleben Sie virtuell die faszinierenden Phänomene der Strömungsdynamik in hydraulischen Strömungsmaschinen wie Pumpen und (Pump-)Turbinen! \n\nIdeal für all jene, die Strömungsdynamik hautnah erleben möchten.
LOCATION:Andritzer Reichsstraße 68B Halle F1 &amp; F3, 8045 Graz
GEO:47.10774894;15.41774109
END:VEVENT
END:VCALENDAR