BEGIN:VCALENDAR
VERSION:2.0
PRODID:-//ERT//LNF26//DE
VERSION:2.0
BEGIN:VEVENT
UID:station_6047_20260424T160000Z
DTSTAMP:20260420T003200Z
URL:https://ert.langenachtderforschung.at/station/6047
DTSTART:20260424T160000Z
DTEND:20260424T163000Z
SUMMARY:[LNF26] Schweißlabor: Lass die Funken fliegen!
DESCRIPTION:Das ist das Motto im Schweißlabor der TU Graz. Wissenschafter:innen zeigen unterschiedliche Schweißprozesse mit Schweißrobotern und zeigen euch, was Rührreibschweißen ist und wofür es eingesetzt wird.
LOCATION:Steyrergasse 17, 8010 Graz
GEO:47.06391610;15.45324900
END:VEVENT
END:VCALENDAR