BEGIN:VCALENDAR
VERSION:2.0
PRODID:-//ERT//LNF26//DE
VERSION:2.0
BEGIN:VEVENT
UID:station_6048_20260324T160000Z
DTSTAMP:20260420T003000Z
URL:https://ert.langenachtderforschung.at/station/6048
DTSTART:20260324T160000Z
DTEND:20260424T210000Z
SUMMARY:[LNF26] Wenn Moleküle leuchten: Machen wir so das Unsichtbare sichtbar?
DESCRIPTION:Unterschiedliche Farbstoffe können im Dunkeln leuchten – wir nennen sie „fluoreszierend“. Mit ihnen können Forschende unter anderem Sauerstoff in der Luft messen, Temperatur sichtbar machen oder auch den pH-Wert einer Probe messen. Du kannst an dieser Station selbst Enzyme in kleine Gefäße transportieren und messen, wie viel Sauerstoff sie verbrauchen. Oder auch mit einer Sonde den pH-Wert einer Probe untersuchen.
LOCATION:Kopernikusgasse 24, 8010 Graz
GEO:47.06494851;15.45095623
END:VEVENT
END:VCALENDAR