BEGIN:VCALENDAR
VERSION:2.0
PRODID:-//ERT//LNF26//DE
VERSION:2.0
BEGIN:VEVENT
UID:station_6049_20260324T160000Z
DTSTAMP:20260420T002900Z
URL:https://ert.langenachtderforschung.at/station/6049
DTSTART:20260324T160000Z
DTEND:20260424T210000Z
SUMMARY:[LNF26] Chemie oder Magie?
DESCRIPTION:Kann man Flammen in verschiedenen Farben erstrahlen lassen so wie ein Feuerwerk? Kann eine kalte Flüssigkeit Sachen zum Brennen bringen? Wie werden zwei durchsichtige Flüssigkeiten, die man zusammenschüttet, innerhalb eines Wimpernschlags pechschwarz?\nMit der Chemie ist so einiges möglich, sowohl digital als auch offline. Studierende geben dir Antworten auf diese und viele weitere Fragen aus der Welt der Chemie.
LOCATION:Kopernikusgasse 24, 8010 Graz
GEO:47.06494851;15.45095623
END:VEVENT
END:VCALENDAR