BEGIN:VCALENDAR
VERSION:2.0
PRODID:-//ERT//LNF26//DE
VERSION:2.0
BEGIN:VEVENT
UID:station_6050_20260324T160000Z
DTSTAMP:20260420T003200Z
URL:https://ert.langenachtderforschung.at/station/6050
DTSTART:20260324T160000Z
DTEND:20260424T210000Z
SUMMARY:[LNF26] Wie baut man ein Rennauto?
DESCRIPTION:Das TU Graz Racing Team stellt sich genau diese Frage täglich. Gemeinsam tüfteln die Studierenden an ihrem Rennboliden, der anschließend in der internationalen Formula Student teilnimmt. Und das ganz schön erfolgreich. Schau dir den Boliden aus der Nähe an, inspiziere selbstgefertigte Bauteile und fachsimpel mit den Teammitgliedern.
LOCATION:Kopernikusgasse 24, 8010 Graz
GEO:47.06494851;15.45095623
END:VEVENT
END:VCALENDAR