BEGIN:VCALENDAR
VERSION:2.0
PRODID:-//ERT//LNF26//DE
VERSION:2.0
BEGIN:VEVENT
UID:station_6051_20260324T160000Z
DTSTAMP:20260420T020600Z
URL:https://ert.langenachtderforschung.at/station/6051
DTSTART:20260324T160000Z
DTEND:20260424T210000Z
SUMMARY:[LNF26] Können Roboter der Feuerwehr bei Katastrophen helfen?
DESCRIPTION:Ja können sie? Das kannst du dir bei der Station des Robotik-Studierendenteams TEDUSAR genauer ansehen. Die Teammitglieder haben einen Parkour mit einem Katastrophen-Szenario aufgebaut und lassen ihre selbstgebauten Roboter ihr Können demonstrieren. Lass dich überraschen, denn vielleicht darfst auch du selbst mal ans Steuer und den Roboter lenken.
LOCATION:Kopernikusgasse 24, 8010 Graz
GEO:47.06494851;15.45095623
END:VEVENT
END:VCALENDAR