BEGIN:VCALENDAR
VERSION:2.0
PRODID:-//ERT//LNF26//DE
VERSION:2.0
BEGIN:VEVENT
UID:station_6052_20260324T160000Z
DTSTAMP:20260420T003000Z
URL:https://ert.langenachtderforschung.at/station/6052
DTSTART:20260324T160000Z
DTEND:20260424T210000Z
SUMMARY:[LNF26] Hast du schon mal ein Elektromotorrad gebaut, mit dem du Rennen fahren kannst?
DESCRIPTION:Genau das macht das Studierendenteam TERA an der TU Graz. Die Rennsportler:innen machen dabei alles selbst: Von der Entwicklung des Motorrads, über Tests und Verbesserungen bis hin zum tatsächlichen Rennen liegt alles bei den Studierenden. Wie sie das genau machen und welche Fertigkeiten dafür notwendig sind, kannst du an dieser Station erfahren.
LOCATION:Kopernikusgasse 24, 8010 Graz
GEO:47.06494851;15.45095623
END:VEVENT
END:VCALENDAR