BEGIN:VCALENDAR
VERSION:2.0
PRODID:-//ERT//LNF26//DE
VERSION:2.0
BEGIN:VEVENT
UID:station_6053_20260424T190000Z
DTSTAMP:20260420T003300Z
URL:https://ert.langenachtderforschung.at/station/6053
DTSTART:20260424T190000Z
DTEND:20260424T191500Z
SUMMARY:[LNF26] Was kann ich alles mit einem Laser machen?
DESCRIPTION:Laser kennen wir auf sehr viele Arten. Aber wusstest du, dass man mit Lasern Schadstoffe in der Luft messen kann? Dass man sie nutzen kann, um Materialien zu untersuchen? Und, dass man mit ihnen buntes Licht erzeugen kann? Das alles zeigen die Physiker:innen vom Institut für Experimentalphysik in Führungen durch die unterschiedlichen Laserlabore.
LOCATION:Petersgasse 16, 8010 Graz
GEO:47.06471510;15.45423470
END:VEVENT
END:VCALENDAR