BEGIN:VCALENDAR
VERSION:2.0
PRODID:-//ERT//LNF26//DE
VERSION:2.0
BEGIN:VEVENT
UID:station_6054_20260324T160000Z
DTSTAMP:20260420T003000Z
URL:https://ert.langenachtderforschung.at/station/6054
DTSTART:20260324T160000Z
DTEND:20260424T210000Z
SUMMARY:[LNF26] Wie vielfältig kann Physik sein?
DESCRIPTION:Sehr! Das zeigt dir die Studienvertretung Physik der HTU Graz. Hier werden Fragen gestellt wie: Kann etwas gleichzeitig flüssig und fest sein? Kann ich aus flüssigem Stickstoff köstliches Eis herstellen? Wie wird radioaktiver Zerfall sichtbar? Wie kann ich mit einem Transformator Funken springen lassen? Warum darf kein Metall in die Mikrowelle? Und wie kann ich Magnetismus sehen?
LOCATION:Petersgasse 16, 8010 Graz
GEO:47.06471510;15.45423470
END:VEVENT
END:VCALENDAR