BEGIN:VCALENDAR
VERSION:2.0
PRODID:-//ERT//LNF26//DE
VERSION:2.0
BEGIN:VEVENT
UID:station_6055_20260324T160000Z
DTSTAMP:20260420T003000Z
URL:https://ert.langenachtderforschung.at/station/6055
DTSTART:20260324T160000Z
DTEND:20260424T210000Z
SUMMARY:[LNF26] Wie baut man eine Rakete?
DESCRIPTION:Hast du schon mal dabei geholfen, eine Rakete zu bauen und sie erfolgreich zu starten? Wie das geht erfährst du beim Aerospace Team Graz, einem Studierendenteam mit knapp 100 Studierenden, die sich ihrer gemeinsamen Leidenschaft zur Raumfahrt widmen und an internationalen Wettbewerben teilnehmen.
LOCATION:Petersgasse 16, 8010 Graz
GEO:47.06471510;15.45423470
END:VEVENT
END:VCALENDAR