BEGIN:VCALENDAR
VERSION:2.0
PRODID:-//ERT//LNF26//DE
VERSION:2.0
BEGIN:VEVENT
UID:station_6057_20260424T160000Z
DTSTAMP:20260420T020700Z
URL:https://ert.langenachtderforschung.at/station/6057
DTSTART:20260424T160000Z
DTEND:20260424T161000Z
SUMMARY:[LNF26] Wie gut kennst du dein Gehirn? Ein Quiz in zehn Fragen
DESCRIPTION:Lerne dein Gehirn mit deinem eigenen Gehirn kennen. Neurotechnologin Kerstin Lenk forscht an unserer höchsteigenen Steuerzentrale und stellt dir zehn Fragen zu deinem Gehirn, die dich mit neuem Wissen versorgen.
LOCATION:Stremayrgasse 16, 8010 Graz
GEO:47.06503320;15.45223260
END:VEVENT
END:VCALENDAR