BEGIN:VCALENDAR
VERSION:2.0
PRODID:-//ERT//LNF26//DE
VERSION:2.0
BEGIN:VEVENT
UID:station_6058_20260324T160000Z
DTSTAMP:20260420T003200Z
URL:https://ert.langenachtderforschung.at/station/6058
DTSTART:20260324T160000Z
DTEND:20260424T193000Z
SUMMARY:[LNF26] Kann ich denkend einen Roboterarm steuern?
DESCRIPTION:Brain-Computer Interfaces messen deine Gehirnaktivitäten. Denkst du an bestimmte, vorgegebene Dinge – wie eine Handbewegung oder Ellenbogen ausstrecken – dann kannst du so etwa einen Roboterarm steuern oder ein Computerspiel spielen. Mit dieser Forschung wollen Wissenschafter:innen vor allem Menschen mit Querschnittlähmung oder einem Locked-In-Zustand helfen, wieder ein selbstständigeres Leben zu führen.
LOCATION:Stremayrgasse 16, 8010 Graz
GEO:47.06503320;15.45223260
END:VEVENT
END:VCALENDAR