BEGIN:VCALENDAR
VERSION:2.0
PRODID:-//ERT//LNF26//DE
VERSION:2.0
BEGIN:VEVENT
UID:station_6059_20260324T160000Z
DTSTAMP:20260420T003100Z
URL:https://ert.langenachtderforschung.at/station/6059
DTSTART:20260324T160000Z
DTEND:20260424T200000Z
SUMMARY:[LNF26] Sind wir auf derselben Wellenlänge?
DESCRIPTION:Hier findest du heraus, ob du und deine Freund:innen auf der gleichen „Gehirnwelle“ schwingen. Neurotechnolog:innen zeigen euch gemeinsame Aufgaben und messen mit „in-Ear“-EEG (wie deine kabellosen Kopfhörer) eure Gehirnwellen. Danach könnt ihr gemeinsam eine Aufgabe bearbeiten und vergleichen, wie sehr sich eure Muster unterscheiden oder ähneln.
LOCATION:Stremayrgasse 16, 8010 Graz
GEO:47.06503320;15.45223260
END:VEVENT
END:VCALENDAR