BEGIN:VCALENDAR
VERSION:2.0
PRODID:-//ERT//LNF26//DE
VERSION:2.0
BEGIN:VEVENT
UID:station_6060_20260324T160000Z
DTSTAMP:20260420T003200Z
URL:https://ert.langenachtderforschung.at/station/6060
DTSTART:20260324T160000Z
DTEND:20260424T190000Z
SUMMARY:[LNF26] Kann ich ein Computerspiel nur mit meinen Gedanken steuern?
DESCRIPTION:Hier kannst du ein Computerspiel nur mit deinen Gedanken spielen. Du bekommst an der Station eine EEG-Haube aufgesetzt und kannst direkt „losdenken“. Studierende des BCI Racing Teams Mirage 91 erklären dir, wie alles funktioniert, wie sie diese Technologie verbessern und an internationalen Wettbewerben teilnehmen.
LOCATION:Stremayrgasse 16, 8010 Graz
GEO:47.06503320;15.45223260
END:VEVENT
END:VCALENDAR