BEGIN:VCALENDAR
VERSION:2.0
PRODID:-//ERT//LNF26//DE
VERSION:2.0
BEGIN:VEVENT
UID:station_6061_20260324T160000Z
DTSTAMP:20260420T003000Z
URL:https://ert.langenachtderforschung.at/station/6061
DTSTART:20260324T160000Z
DTEND:20260424T210000Z
SUMMARY:[LNF26] Forscherinnen entdecken: Frauen an der Akademie der Wissenschaften
DESCRIPTION:Diese Sonderausstellung wird gemeinsam von TU Graz und ÖAW veranstaltet und beleuchtet in multimedialen Präsentationen die Bedeutung von Frauen sowie ihre Forschungen an der Akademie der Wissenschaften in Geschichte und Gegenwart.\nDie Ausstellung ist bis 22. Mai an der TU Graz zu sehen.
LOCATION:Stremayrgasse 16, 8010 Graz
GEO:47.06503320;15.45223260
END:VEVENT
END:VCALENDAR