BEGIN:VCALENDAR
VERSION:2.0
PRODID:-//ERT//LNF26//DE
VERSION:2.0
BEGIN:VEVENT
UID:station_6075_20260324T160000Z
DTSTAMP:20260422T174000Z
URL:https://ert.langenachtderforschung.at/station/6075
DTSTART:20260324T160000Z
DTEND:20260424T210000Z
SUMMARY:[LNF26] Wie wird aus Schilf, Reststoffen und Schlamm klimafreundliche Schwarzerde?
DESCRIPTION:Bei dieser Station entdecken Sie, wie aus Schilf und landwirtschaftlichen Reststoffen aus dem Neusiedler See wertvolle Produkte entstehen. Mithilfe der Pyrolyse werden daraus Pflanzenkohle, Torfersatz und Biodünger erzeugt. So wird CO₂ langfristig im Boden gespeichert und eine regionale Kreislaufwirtschaft aufgebaut.
LOCATION:Seevorgelände 1, 7142 Illmitz
GEO:47.76906806;16.76626861
END:VEVENT
END:VCALENDAR