BEGIN:VCALENDAR
VERSION:2.0
PRODID:-//ERT//LNF26//DE
VERSION:2.0
BEGIN:VEVENT
UID:station_6111_20260324T160000Z
DTSTAMP:20260422T212300Z
URL:https://ert.langenachtderforschung.at/station/6111
DTSTART:20260324T160000Z
DTEND:20260424T204500Z
SUMMARY:[LNF26] Innovationen zum Staunen: Dynamik interaktiv entdecken - Mechatronik zum Anfassen
DESCRIPTION:Entdecken Sie den 3D-Schoko-Drucker, erleben Sie den Schwimmstartblock in Aktion und beobachten Sie, wie ein Levitator Dinge schweben lässt. \nEine Akustikkamera macht Geräusche sichtbar, während Experimente mit dem Schwingungstilger zeigen, wie sich Schwingungen gezielt reduzieren lassen – Technik und Forschung zum Staunen und Mitmachen.
LOCATION:Johannes-Gutenberg-Straße 3 Innovation Lab und Area27 (J. Gutenberg-Straße 5), 2700 Wiener Neustadt
GEO:47.83811166;16.24962151
END:VEVENT
END:VCALENDAR