BEGIN:VCALENDAR
VERSION:2.0
PRODID:-//ERT//LNF26//DE
VERSION:2.0
BEGIN:VEVENT
UID:station_6112_20260324T160000Z
DTSTAMP:20260422T221600Z
URL:https://ert.langenachtderforschung.at/station/6112
DTSTART:20260324T160000Z
DTEND:20260424T204500Z
SUMMARY:[LNF26] Mechatronische Experimente und Projekte zum Mitmachen und Verstehen
DESCRIPTION:Testen Sie Ihre Reaktionsgeschwindigkeit, erleben Sie faszinierende Lichteffekte auf einem LED-Speichenrad, beobachten Sie einen Modell-Segway in Bewegung oder lassen Sie sich vom ZoneZ-Demonstrator beeindrucken. Die Projekte zeigen anschaulich, wie Sensorik, Regelungstechnik und moderne Antriebstechnik zusammenwirken.
LOCATION:Johannes-Gutenberg-Straße 3 Innovation Lab und Area27 (J. Gutenberg-Straße 5), 2700 Wiener Neustadt
GEO:47.83811166;16.24962151
END:VEVENT
END:VCALENDAR