BEGIN:VCALENDAR
VERSION:2.0
PRODID:-//ERT//LNF26//DE
VERSION:2.0
BEGIN:VEVENT
UID:station_6113_20260324T160000Z
DTSTAMP:20260422T212300Z
URL:https://ert.langenachtderforschung.at/station/6113
DTSTART:20260324T160000Z
DTEND:20260424T204500Z
SUMMARY:[LNF26] Basteln auf Mikrometerebene - Mechatronik zum Anfassen
DESCRIPTION:Wie viele Schaltkreise passen auf ein Haar? Wie groß ist Licht? Wie kann ich mittels Tasten kleinste Dinge sehen? Woher hat ein Mobiltelefon seine Orientierung? Wie arbeiten HD-Projektoren? Und wie ist es möglich all dieses System so klein zu bauen? Dahinter stecken Mikro-Elektro-Mechanische Systeme (MEMS). Wir erforschen und bauen hier Strukturen, die leicht auf die Spitze eines Druckbleistiftes passen!
LOCATION:Johannes-Gutenberg-Straße 3 Innovation Lab und Area27 (J. Gutenberg-Straße 5), 2700 Wiener Neustadt
GEO:47.83811166;16.24962151
END:VEVENT
END:VCALENDAR