BEGIN:VCALENDAR
VERSION:2.0
PRODID:-//ERT//LNF26//DE
VERSION:2.0
BEGIN:VEVENT
UID:station_6114_20260324T160000Z
DTSTAMP:20260422T222300Z
URL:https://ert.langenachtderforschung.at/station/6114
DTSTART:20260324T160000Z
DTEND:20260424T204500Z
SUMMARY:[LNF26] Vom Layout zur Leiterplatte - Mechatronik zum Anfassen
DESCRIPTION:Wie wird aus einer Idee funktionierende Elektronik?\nWie kommen winzige SMD-Bauteile präzise auf eine Platine?\nUnd was passiert, wenn ein Chip nicht perfekt sitzt?\nIm Printlabor entsteht die Leiterplatte direkt vor Ort: fräsen, bestücken, Reflow-löten – und bei Bedarf professionell nacharbeiten. Hier wird aus einem Entwurf Schritt für Schritt echte Hardware.
LOCATION:Johannes-Gutenberg-Straße 3 Innovation Lab und Area27 (J. Gutenberg-Straße 5), 2700 Wiener Neustadt
GEO:47.83811166;16.24962151
END:VEVENT
END:VCALENDAR