BEGIN:VCALENDAR
VERSION:2.0
PRODID:-//ERT//LNF26//DE
VERSION:2.0
BEGIN:VEVENT
UID:station_6116_20260324T160000Z
DTSTAMP:20260422T223300Z
URL:https://ert.langenachtderforschung.at/station/6116
DTSTART:20260324T160000Z
DTEND:20260424T210000Z
SUMMARY:[LNF26] Wie sieht deine Zukunft aus? – kreative Jungforscher:inneninsel
DESCRIPTION:Jetzt und in der Zukunft brauchen wir kreative Köpfe! Deshalb laden wir alle von 0 – 99 dazu ein das Gemeinschaftsprojekt Zukunft mitzugestalten und ihre Zukunftsvision farbenfroh zu Papier zu bringen! Das Motto lautet: „Zeichne uns die Zukunft“\nGleichzeitig dürfen naturwissenschaftlich interessierte Besucher:innen auch praktisch in die Welt der Forschung reinschnuppern und biochemische Experimente ausprobieren.
LOCATION:Konrad Lorenz Straße 10, 3430 Tulln
GEO:48.32043157;16.06446745
END:VEVENT
END:VCALENDAR