BEGIN:VCALENDAR
VERSION:2.0
PRODID:-//ERT//LNF26//DE
VERSION:2.0
BEGIN:VEVENT
UID:station_6117_20260324T160000Z
DTSTAMP:20260421T135600Z
URL:https://ert.langenachtderforschung.at/station/6117
DTSTART:20260324T160000Z
DTEND:20260424T210000Z
SUMMARY:[LNF26] Vielfalt ist wichtig (#DiversityMatters) – Warum das Mikrobiom unser Ernährungssystem stärkt
DESCRIPTION:Mikrobiome bestehen aus Tausenden verschiedener Mikroorganismen und spielen eine Schlüsselrolle bei der Erhaltung des Lebens auf der Erde. Durch die Unterstützung der EU-Projekten MICROBE, FoodSafeR, FlavourFerm und DOMINO geben wir Einblicke in das Mikrobiom der Umwelt und der Lebensmittel und zeigen, wie wichtig Vielfalt ist.
LOCATION:Konrad Lorenz Straße 24, 3430 Tulln
GEO:48.32077312;16.06863138
END:VEVENT
END:VCALENDAR