BEGIN:VCALENDAR
VERSION:2.0
PRODID:-//ERT//LNF26//DE
VERSION:2.0
BEGIN:VEVENT
UID:station_6191_20260324T160000Z
DTSTAMP:20260421T143700Z
URL:https://ert.langenachtderforschung.at/station/6191
DTSTART:20260324T160000Z
DTEND:20260424T210000Z
SUMMARY:[LNF26] Wie machen Nanovesikel Medizin präziser?
DESCRIPTION:Extrazelluläre Vesikel – davon schon gehört? Dabei handelt es sich um winzige Bläschen im Nanomaßstab, die im Körper als natürliches Transportsystem dienen. Diese nutzen wir, um innovative Diagnose- und Behandlungsmöglichkeiten für schwere Erkrankungen zu entwickeln. An dieser Station isolierst du selbst Vesikel aus Zitronen oder Bier, beobachtest sie unter dem Mikroskop und gehst mit einem Megavesikel auf Reisen!
LOCATION:Erzabt-Klotz-Straße 1 Unipark, 5020 Salzburg
GEO:47.79478290;13.05415970
END:VEVENT
END:VCALENDAR