BEGIN:VCALENDAR
VERSION:2.0
PRODID:-//ERT//LNF26//DE
VERSION:2.0
BEGIN:VEVENT
UID:station_6193_20260324T160000Z
DTSTAMP:20260421T143700Z
URL:https://ert.langenachtderforschung.at/station/6193
DTSTART:20260324T160000Z
DTEND:20260424T210000Z
SUMMARY:[LNF26] Wie helfen Karte, KI und Mini-Organe gegen Krebs?
DESCRIPTION:Tumoren sind so komplex wie Megastädte – wie behält man den Überblick? An dieser Station erfährst du, wie KI Forschenden der Universität Salzburg hilft, bessere Diagnosen zu stellen und neue Therapien zu entwickeln. Du entdeckst, wie Immunzellen reaktiviert werden können und wie Tumoren im Labor gezüchtet werden. Spiele mit, bestimme den Tumortyp, untersuche ihn und entwickle eine passende Therapiestrategie.
LOCATION:Erzabt-Klotz-Straße 1 Unipark, 5020 Salzburg
GEO:47.79478290;13.05415970
END:VEVENT
END:VCALENDAR