BEGIN:VCALENDAR
VERSION:2.0
PRODID:-//ERT//LNF26//DE
VERSION:2.0
BEGIN:VEVENT
UID:station_6194_20260324T160000Z
DTSTAMP:20260421T144100Z
URL:https://ert.langenachtderforschung.at/station/6194
DTSTART:20260324T160000Z
DTEND:20260424T210000Z
SUMMARY:[LNF26] Welche Kräfte prägen Landschaften?
DESCRIPTION:Mach mit: Du gestaltest Flussläufe, entdeckst, woher unser Leitungswasser kommt, und findest heraus, welche Geschichten gezackte Linien im Adneter Marmor über die Entstehung der Alpen erzählen. Die Station besteht aus drei Beiträgen: einer praktischen Erkundung von Flusssystemen mit der Flussbox (www.flussform.at), dem Weg des Wassers zwischen Regenwolke und Wasserhahn sowie druckvollen Spuren im Gestein.
LOCATION:Erzabt-Klotz-Straße 1 Unipark, 5020 Salzburg
GEO:47.79478290;13.05415970
END:VEVENT
END:VCALENDAR