BEGIN:VCALENDAR
VERSION:2.0
PRODID:-//ERT//LNF26//DE
VERSION:2.0
BEGIN:VEVENT
UID:station_6196_20260324T160000Z
DTSTAMP:20260421T143900Z
URL:https://ert.langenachtderforschung.at/station/6196
DTSTART:20260324T160000Z
DTEND:20260424T210000Z
SUMMARY:[LNF26] Was passiert heute in Extremlebensräumen der Alpen?
DESCRIPTION:Wenn Berghänge ins Rutschen geraten oder Gletscher schmelzen, verändert sich die Landschaft – und mit ihr das Leben. Du erfährst, wie Erdrutsche neue Lebensräume entstehen lassen und welche „Krabbeltiere“ dort heimisch werden. Flechten zeigen dir, wie sich Flächen nach dem Rückzug der Gletscher neu besiedeln und wie auf eisfreien Gipfeln Schritt für Schritt neue Lebensräume entstehen.
LOCATION:Erzabt-Klotz-Straße 1 Unipark, 5020 Salzburg
GEO:47.79478290;13.05415970
END:VEVENT
END:VCALENDAR