BEGIN:VCALENDAR
VERSION:2.0
PRODID:-//ERT//LNF26//DE
VERSION:2.0
BEGIN:VEVENT
UID:station_6197_20260324T160000Z
DTSTAMP:20260421T145700Z
URL:https://ert.langenachtderforschung.at/station/6197
DTSTART:20260324T160000Z
DTEND:20260424T210000Z
SUMMARY:[LNF26] Welche kleinen Tiere sind überall – nur unsichtbar?
DESCRIPTION:Hier wird Unsichtbares sichtbar: Du entdeckst lebende Tiere aus Boden, Hecke und Wasser und erfährst, warum ihre Vielfalt so wichtig ist. Beobachte Asseln, Wasserflöhe und Wandelnde Blätter aus nächster Nähe und erkenne Tarnung, Bewegung und Überlebensstrategien. Unter dem Mikroskop werden Insekten riesig projiziert, und ein Wassertropfen zeigt, wie viel Leben in ihm steckt. Für alle, die Natur wirklich sehen wollen.
LOCATION:Erzabt-Klotz-Straße 1 Unipark, 5020 Salzburg
GEO:47.79478290;13.05415970
END:VEVENT
END:VCALENDAR