BEGIN:VCALENDAR
VERSION:2.0
PRODID:-//ERT//LNF26//DE
VERSION:2.0
BEGIN:VEVENT
UID:station_6198_20260324T160000Z
DTSTAMP:20260423T104500Z
URL:https://ert.langenachtderforschung.at/station/6198
DTSTART:20260324T160000Z
DTEND:20260424T210000Z
SUMMARY:[LNF26] Was verraten Speichel und Nase über Allergien?
DESCRIPTION:Entdecke das Sparkling-Science Projekt DIAG_NOSE und erfahre, wie gemeinsam mit Schüler:innen die Diagnose von Allergien durch Testen von Speichel und Nasensekret verbessert werden kann. Lerne interaktiv alles über Allergien und Antikörperdiagnose. Mach mit: Kreuzallergie veranschaulicht mit 3-Modellen, Fakten und Fakes zu Allergien und ein Wissens-Quiz.
LOCATION:Erzabt-Klotz-Straße 1 Unipark, 5020 Salzburg
GEO:47.79478290;13.05415970
END:VEVENT
END:VCALENDAR