BEGIN:VCALENDAR
VERSION:2.0
PRODID:-//ERT//LNF26//DE
VERSION:2.0
BEGIN:VEVENT
UID:station_6201_20260324T160000Z
DTSTAMP:20260424T085800Z
URL:https://ert.langenachtderforschung.at/station/6201
DTSTART:20260324T160000Z
DTEND:20260424T203000Z
SUMMARY:[LNF26] Sub Flight - Wie sieht die neue Art des Tauchens aus?
DESCRIPTION:Sub Flight ist ein innovatives Tauchsystem, das das Tauchen ohne schwere Tauchflaschen oder Bleigewichte am Körper ermöglicht. Ein schwimmender Kompressor liefert Frischluft von der Oberfläche, während ein Steuergerät für sichere Tauchgänge bis zu 5 m Tiefe sorgt – alles tragbar im Rucksackformat.
LOCATION:Viktor Kaplan Strasse 2 TFZ, 2700 Wiener Neustadt
GEO:47.83725022;16.25247860
END:VEVENT
END:VCALENDAR