BEGIN:VCALENDAR
VERSION:2.0
PRODID:-//ERT//LNF26//DE
VERSION:2.0
BEGIN:VEVENT
UID:station_6205_20260324T160000Z
DTSTAMP:20260421T143900Z
URL:https://ert.langenachtderforschung.at/station/6205
DTSTART:20260324T160000Z
DTEND:20260424T210000Z
SUMMARY:[LNF26] Wie heilt ein Netzwerk aus Zellen und Genen?
DESCRIPTION:An dieser Mitmach-Station baust du dein eigenes Heilungsnetzwerk: Mit Magneten wählst du Zellen, Proteine und Gene aus, um Gewebe wie Knochen oder Sehnen zu reparieren. Spielerisch erkennst du, wie Forschende mithilfe von Daten und KI komplexe Heilungsprozesse analysieren und besser verstehen.
LOCATION:Erzabt-Klotz-Straße 1 Unipark, 5020 Salzburg
GEO:47.79478290;13.05415970
END:VEVENT
END:VCALENDAR