BEGIN:VCALENDAR
VERSION:2.0
PRODID:-//ERT//LNF26//DE
VERSION:2.0
BEGIN:VEVENT
UID:station_6206_20260324T160000Z
DTSTAMP:20260421T143800Z
URL:https://ert.langenachtderforschung.at/station/6206
DTSTART:20260324T160000Z
DTEND:20260424T210000Z
SUMMARY:[LNF26] Blick ins Gesicht und Gehirn: Wie denken, schlafen und handeln wir?
DESCRIPTION:In einem interaktiven Mitmach-Experiment diskutierst du gesellschaftliche Spaltung und du erfährst, wie KI Gesichtsausdrücke analysiert und was das mit dem Aufeinander-Achten zu tun hat. Weiters siehst du an dieser Station, was im Schlaf im Gehirn passiert: EEG macht Gehirnströme sichtbar, kognitive Übungen ermöglichen es, Aufmerksamkeit, Gedächtnis und Verarbeitungsgeschwindigkeit selbst zu testen.
LOCATION:Erzabt-Klotz-Straße 1 Unipark, 5020 Salzburg
GEO:47.79478290;13.05415970
END:VEVENT
END:VCALENDAR