BEGIN:VCALENDAR
VERSION:2.0
PRODID:-//ERT//LNF26//DE
VERSION:2.0
BEGIN:VEVENT
UID:station_6211_20260324T160000Z
DTSTAMP:20260419T144400Z
URL:https://ert.langenachtderforschung.at/station/6211
DTSTART:20260324T160000Z
DTEND:20260424T210000Z
SUMMARY:[LNF26] Laborführung im Zentrum für Krebsforschung - Analyse und Interpretation wissenschaftlicher Daten
DESCRIPTION:Erfahren Sie auf einer Tour mehr über unsere Projekte und gewinnen Sie Einblicke in die neuesten Erkenntnisse der Krebsforschung.
LOCATION:Borschkegasse 4a Walter-Beck-Platz, 1090 Wien
GEO:48.21815830;16.34618372
END:VEVENT
END:VCALENDAR