BEGIN:VCALENDAR
VERSION:2.0
PRODID:-//ERT//LNF26//DE
VERSION:2.0
BEGIN:VEVENT
UID:station_6213_20260324T160000Z
DTSTAMP:20260420T003100Z
URL:https://ert.langenachtderforschung.at/station/6213
DTSTART:20260324T160000Z
DTEND:20260424T210000Z
SUMMARY:[LNF26] Know Center - Haben Sie schon mit Künstlicher Intelligenz interagiert? (SR 3)
DESCRIPTION:Interaktion mit künstlicher Intelligenz! \nMit KI interagieren kann man auch im echten Leben. Bei unserer Mitmachstation dreht sich alles um intelligente Maschinen, die man direkt erfahren kann. Seien es Roboter, die anhand von KI intelligent antworten können, VR-Brillen die das Eintauchen in die virtuelle Welt erlauben und vieles mehr.
LOCATION:Kopernikusgasse 24, 8010 Graz
GEO:47.06494851;15.45095623
END:VEVENT
END:VCALENDAR