BEGIN:VCALENDAR
VERSION:2.0
PRODID:-//ERT//LNF26//DE
VERSION:2.0
BEGIN:VEVENT
UID:station_6215_20260324T160000Z
DTSTAMP:20260420T020600Z
URL:https://ert.langenachtderforschung.at/station/6215
DTSTART:20260324T160000Z
DTEND:20260424T210000Z
SUMMARY:[LNF26] Know Center - KI im Einsatz: Chancen, Risiken und Anwendungen (HS M)
DESCRIPTION:Im bestuhlten (70 Plätze) Hörsaal geben Wissenschaftler:innen des Know Centers in kurzen Vorträgen spannende Einblicke in aktuelle Themen der künstlichen Intelligenz: von interaktiven KI-Agenten über Chancen und Risiken moderner KI bis hin zum Einsatz von KI zum Schutz landwirtschaftlicher Kulturen vor Frostschäden. Die Vorträge starten jeweils zur halben Stunde.
LOCATION:Kopernikusgasse 24, 8010 Graz
GEO:47.06494851;15.45095623
END:VEVENT
END:VCALENDAR