BEGIN:VCALENDAR
VERSION:2.0
PRODID:-//ERT//LNF26//DE
VERSION:2.0
BEGIN:VEVENT
UID:station_6224_20260324T160000Z
DTSTAMP:20260422T221700Z
URL:https://ert.langenachtderforschung.at/station/6224
DTSTART:20260324T160000Z
DTEND:20260424T210000Z
SUMMARY:[LNF26] Was verrät Speichel über Belastung und Erholung? Massenspektrometrie macht Körpersignale sichtbar
DESCRIPTION:Was verrät Speichel über Belastung und Erholung? In einem kurzen Spiel suchen Besucher:innen in einem „Molekül-Fingerabdruck“ (Massenspektrum) typische Peak-Muster und ordnen sie einem Szenario zu. So wird verständlich, wie Forschung aus Messsignalen Hinweise auf Stress, Schlaf und Regeneration ableitet.
LOCATION:Konrad Lorenz Straße 10, 3430 Tulln
GEO:48.32043157;16.06446745
END:VEVENT
END:VCALENDAR