BEGIN:VCALENDAR
VERSION:2.0
PRODID:-//ERT//LNF26//DE
VERSION:2.0
BEGIN:VEVENT
UID:station_6236_20260324T160000Z
DTSTAMP:20260422T075200Z
URL:https://ert.langenachtderforschung.at/station/6236
DTSTART:20260324T160000Z
DTEND:20260424T210000Z
SUMMARY:[LNF26] Wie funktioniert Strahlenschutz?
DESCRIPTION:Wie funktioniert Strahlenschutz? 1927 gegründet, schützt das Strahlenschutzlabor der Stadt Wien heute die Gesundheit von Menschen, die mit ionisierender Strahlung arbeiten.\n\nBei der Langen Nacht der Forschung wird es spannende Laborführungen mit den Schwerpunkten Personenschutz (Qualitätskontrolle von Röntgenschutzkleidung, Personendosimetrie), Radonmessung und Röntgenstrahlung geben.
LOCATION:Währinger Gürtel  18-20, 1090 Wien
GEO:48.21964243;16.34650951
END:VEVENT
END:VCALENDAR