BEGIN:VCALENDAR
VERSION:2.0
PRODID:-//ERT//LNF26//DE
VERSION:2.0
BEGIN:VEVENT
UID:station_6246_20260324T160000Z
DTSTAMP:20260422T075400Z
URL:https://ert.langenachtderforschung.at/station/6246
DTSTART:20260324T160000Z
DTEND:20260424T210000Z
SUMMARY:[LNF26] Die Welt der Infektionskrankheiten
DESCRIPTION:Bei dieser Station werden Bakterien- und Pilzkulturen und mikroskopische Präparate von Krankheitserregern gezeigt. Es gibt auch die Möglichkeit, diese Präparate selbstständig zu mikroskopieren.
LOCATION:Währinger Gürtel  18-20, 1090 Wien
GEO:48.21973561;16.34864900
END:VEVENT
END:VCALENDAR