BEGIN:VCALENDAR
VERSION:2.0
PRODID:-//ERT//LNF26//DE
VERSION:2.0
BEGIN:VEVENT
UID:station_6264_20260324T160000Z
DTSTAMP:20260422T073500Z
URL:https://ert.langenachtderforschung.at/station/6264
DTSTART:20260324T160000Z
DTEND:20260424T210000Z
SUMMARY:[LNF26] Freud Hören
DESCRIPTION:Lauschen Sie der Stimme Freuds und erfahren in dieser Hörstation mehr über Freuds Leben und Werk.
LOCATION:Spitalgasse 23, 1090 Wien
GEO:48.22029156;16.35096419
END:VEVENT
END:VCALENDAR