BEGIN:VCALENDAR
VERSION:2.0
PRODID:-//ERT//LNF26//DE
VERSION:2.0
BEGIN:VEVENT
UID:station_6265_20260324T160000Z
DTSTAMP:20260422T075400Z
URL:https://ert.langenachtderforschung.at/station/6265
DTSTART:20260324T160000Z
DTEND:20260424T210000Z
SUMMARY:[LNF26] Freud Sehen
DESCRIPTION:Sigmund Freud ist der Begründer der Psychoanalyse und gilt als einer der einflussreichsten Denker des 20. Jahrhunderts. Seine Theorien und therapeutischen Methoden werden bis heute angewandt - in einem Video erfahren Sie mehr über seine Theorien.
LOCATION:Spitalgasse 23, 1090 Wien
GEO:48.22029156;16.35096419
END:VEVENT
END:VCALENDAR